BEGIN:VCALENDAR
VERSION:2.0
PRODID:-//Promusic.nl - ECPv6.15.20//NONSGML v1.0//EN
CALSCALE:GREGORIAN
METHOD:PUBLISH
X-WR-CALNAME:Promusic.nl
X-ORIGINAL-URL:https://promusic.nl
X-WR-CALDESC:Evenementen voor Promusic.nl
REFRESH-INTERVAL;VALUE=DURATION:PT1H
X-Robots-Tag:noindex
X-PUBLISHED-TTL:PT1H
BEGIN:VTIMEZONE
TZID:UTC
BEGIN:STANDARD
TZOFFSETFROM:+0000
TZOFFSETTO:+0000
TZNAME:UTC
DTSTART:20250101T000000
END:STANDARD
END:VTIMEZONE
BEGIN:VEVENT
DTSTART;TZID=UTC:20260509T193000
DTEND;TZID=UTC:20260509T213000
DTSTAMP:20260420T162152
CREATED:20260420T125351Z
LAST-MODIFIED:20260420T125434Z
UID:2755-1778355000-1778362200@promusic.nl
SUMMARY:Bevrijdingsconcert
DESCRIPTION:Bevrijdingsconcert door Garder Mannenkoor olv Sjaak van Wijngaarden \nM.m.v. \nHarm Hoeve orgel \nJohan Bredewout piano \nWillemijn van der Hoek viool \nArjan en Edith Post trompet
URL:https://promusic.nl/agenda/bevrijdingsconcert/
LOCATION:Bovenkerk Kampen\, Koornmarkt 28\, Kampen
END:VEVENT
END:VCALENDAR