BEGIN:VCALENDAR
VERSION:2.0
PRODID:-//Promusic.nl - ECPv6.15.20//NONSGML v1.0//EN
CALSCALE:GREGORIAN
METHOD:PUBLISH
X-WR-CALNAME:Promusic.nl
X-ORIGINAL-URL:https://promusic.nl
X-WR-CALDESC:Evenementen voor Promusic.nl
REFRESH-INTERVAL;VALUE=DURATION:PT1H
X-Robots-Tag:noindex
X-PUBLISHED-TTL:PT1H
BEGIN:VTIMEZONE
TZID:UTC
BEGIN:STANDARD
TZOFFSETFROM:+0000
TZOFFSETTO:+0000
TZNAME:UTC
DTSTART:20250101T000000
END:STANDARD
END:VTIMEZONE
BEGIN:VEVENT
DTSTART;TZID=UTC:20260329T153000
DTEND;TZID=UTC:20260329T173000
DTSTAMP:20260421T094633
CREATED:20260304T161617Z
LAST-MODIFIED:20260304T161627Z
UID:2618-1774798200-1774805400@promusic.nl
SUMMARY:Passie/Paasconcert
DESCRIPTION:Uitvoering van Marcuspassie door Rejoice Wassenaar olv Aad de Winter. \nM.m.v. o.a. Arjan en Edith Post
URL:https://promusic.nl/agenda/passie-paasconcert-3/
LOCATION:Messiaskerk\, Wassenaar
END:VEVENT
END:VCALENDAR